BEGIN:VCALENDAR
VERSION:2.0
PRODID:-//eventon.com NONSGML v1.0//EN
CALSCALE:GREGORIAN
METHOD:PUBLISH
BEGIN:VEVENT
UID:69e689b498728
DTSTAMP:20260420T201652Z
DTSTART:20240813T130000Z
DTEND:20240813T190000Z
LOCATION:Golfclub Ravensberger Land e.V. Golfclub Ravensberger Land e.V.
SUMMARY:Ladiesday - Peckeloh zu Gast
DESCRIPTION:Ladiesday &#8211; Peckeloh zu Gast Scramble &#8211; ZählspielM
 ax &#8211; 18-Loch\nhttps://www.golfclub-ravensberger-land.de/termine/ladie
 sday-peckeloh-zu-gast/
URL:https://www.golfclub-ravensberger-land.de/termine/ladiesday-peckeloh-zu-gast/
END:VEVENT
END:VCALENDAR