BEGIN:VCALENDAR
VERSION:2.0
PRODID:-//eventon.com NONSGML v1.0//EN
CALSCALE:GREGORIAN
METHOD:PUBLISH
BEGIN:VEVENT
UID:69e68a64baf09
DTSTAMP:20260420T201948Z
DTSTART:20240820T130000Z
DTEND:20240820T190000Z
LOCATION:Golfclub Ravensberger Land e.V. Golfclub Ravensberger Land e.V.
SUMMARY:Ladiesday - 3. JAB Anstoetz
DESCRIPTION:Ladiesday &#8211; 3. JAB Anstoetz Einzel &#8211; ZählspielMax 
 &#8211; 18-Loch\nhttps://www.golfclub-ravensberger-land.de/termine/ladiesda
 y-3-jab-anstoetz/
URL:https://www.golfclub-ravensberger-land.de/termine/ladiesday-3-jab-anstoetz/
END:VEVENT
END:VCALENDAR