BEGIN:VCALENDAR
VERSION:2.0
PRODID:-//eventon.com NONSGML v1.0//EN
CALSCALE:GREGORIAN
METHOD:PUBLISH
BEGIN:VEVENT
UID:69e6d2ba09a57
DTSTAMP:20260421T012826Z
DTSTART:20240827T150000Z
DTEND:20240827T180000Z
LOCATION:Golfclub Ravensberger Land e.V. Golfclub Ravensberger Land e.V.
SUMMARY:Ladiesday 9 Loch by Autohaus Steinböhmer
DESCRIPTION:Ladiesday 9 Loch by Autohaus Steinböhmer Einzel &#8211; Zähls
 pielMax &#8211; 9-Loch\nhttps://www.golfclub-ravensberger-land.de/termine/l
 adiesday-9-loch-by-autohaus-steinboehmer/
URL:https://www.golfclub-ravensberger-land.de/termine/ladiesday-9-loch-by-autohaus-steinboehmer/
END:VEVENT
END:VCALENDAR