BEGIN:VCALENDAR
VERSION:2.0
PRODID:-//eventon.com NONSGML v1.0//EN
CALSCALE:GREGORIAN
METHOD:PUBLISH
BEGIN:VEVENT
UID:69e6860aa6f80
DTSTAMP:20260420T200114Z
DTSTART:20240917T130000Z
DTEND:20240917T235900Z
LOCATION:Golfclub Ravensberger Land e.V. Golfclub Ravensberger Land e.V.
SUMMARY:Ladiesday 18/9-Loch - Strawberry Tour 2024
DESCRIPTION:Ladiesday Einzel &#8211; ZählspielMax &#8211; 18/9 -Loch\nhttp
 s://www.golfclub-ravensberger-land.de/termine/ladiesday-24/
URL:https://www.golfclub-ravensberger-land.de/termine/ladiesday-24/
END:VEVENT
END:VCALENDAR