BEGIN:VCALENDAR
VERSION:2.0
PRODID:-//eventon.com NONSGML v1.0//EN
CALSCALE:GREGORIAN
METHOD:PUBLISH
BEGIN:VEVENT
UID:69e68a49c4b7d
DTSTAMP:20260420T201921Z
DTSTART:20241001T150000Z
DTEND:20241001T180000Z
LOCATION:Golfclub Ravensberger Land e.V. Golfclub Ravensberger Land e.V.
SUMMARY:Ladiesday 9 Loch
DESCRIPTION:Ladiesday 9 Loch Einzel &#8211; ZählspielMax &#8211; 9-Loch\nh
 ttps://www.golfclub-ravensberger-land.de/termine/ladiesday-9-loch-18/
URL:https://www.golfclub-ravensberger-land.de/termine/ladiesday-9-loch-18/
END:VEVENT
END:VCALENDAR