BEGIN:VCALENDAR
VERSION:2.0
PRODID:-//eventon.com NONSGML v1.0//EN
CALSCALE:GREGORIAN
METHOD:PUBLISH
BEGIN:VEVENT
UID:69e698173c8fb
DTSTAMP:20260420T211815Z
DTSTART:20241015T130000Z
DTEND:20241015T190000Z
LOCATION:Golfclub Ravensberger Land e.V. Golfclub Ravensberger Land e.V.
SUMMARY:Ladiesday
DESCRIPTION:Ladiesday Einzel &#8211; ZählspielMax &#8211; 18-Loch\nhttps:/
 /www.golfclub-ravensberger-land.de/termine/ladiesday-28/
URL:https://www.golfclub-ravensberger-land.de/termine/ladiesday-28/
END:VEVENT
END:VCALENDAR