BEGIN:VCALENDAR
VERSION:2.0
PRODID:-//eventon.com NONSGML v1.0//EN
CALSCALE:GREGORIAN
METHOD:PUBLISH
BEGIN:VEVENT
UID:69e686acb23ba
DTSTAMP:20260420T200356Z
DTSTART:20240503T140000Z
DTEND:20240503T170000Z
LOCATION:Golfclub Ravensberger Land e.V. Golfclub Ravensberger Land e.V.
SUMMARY:1. ECCO DAY 9L
DESCRIPTION:1. ECCO DAY 9L Einzel &#8211; Stableford &#8211; 9-Loch\nhttps:
 //www.golfclub-ravensberger-land.de/termine/1-ecco-day-9l/
URL:https://www.golfclub-ravensberger-land.de/termine/1-ecco-day-9l/
END:VEVENT
END:VCALENDAR