BEGIN:VCALENDAR
VERSION:2.0
PRODID:-//eventon.com NONSGML v1.0//EN
CALSCALE:GREGORIAN
METHOD:PUBLISH
BEGIN:VEVENT
UID:69e6a20c9f5ab
DTSTAMP:20260420T220044Z
DTSTART:20240517T163000Z
DTEND:20240517T193000Z
LOCATION:Golfclub Ravensberger Land e.V. Golfclub Ravensberger Land e.V.
SUMMARY:1. Mercedes-Benz AWGC
DESCRIPTION:1. Mercedes-Benz AWGC\,  Anmeldung nur unter awgc.de Einzel &#8
 211; Stableford &#8211; 9-Loch\nhttps://www.golfclub-ravensberger-land.de/t
 ermine/1-mercedes-benz-awgc-anmeldung-nur-unter-awgc-de/
URL:https://www.golfclub-ravensberger-land.de/termine/1-mercedes-benz-awgc-anmeldung-nur-unter-awgc-de/
END:VEVENT
END:VCALENDAR