BEGIN:VCALENDAR
VERSION:2.0
PRODID:-//eventon.com NONSGML v1.0//EN
CALSCALE:GREGORIAN
METHOD:PUBLISH
BEGIN:VEVENT
UID:69e68505aa17c
DTSTAMP:20260420T195653Z
DTSTART:20240524T163000Z
DTEND:20240524T193000Z
LOCATION:Golfclub Ravensberger Land e.V. Golfclub Ravensberger Land e.V.
SUMMARY:2. ECCO DAY 9L
DESCRIPTION:2. ECCO DAY 9L Einzel &#8211; Stableford &#8211; 9-Loch\nhttps:
 //www.golfclub-ravensberger-land.de/termine/2-ecco-day-9l/
URL:https://www.golfclub-ravensberger-land.de/termine/2-ecco-day-9l/
END:VEVENT
END:VCALENDAR