BEGIN:VCALENDAR
VERSION:2.0
PRODID:-//eventon.com NONSGML v1.0//EN
CALSCALE:GREGORIAN
METHOD:PUBLISH
BEGIN:VEVENT
UID:69e7b34a97c2b
DTSTAMP:20260421T172634Z
DTSTART:20240531T163000Z
DTEND:20240531T193000Z
LOCATION:Golfclub Ravensberger Land e.V. Golfclub Ravensberger Land e.V.
SUMMARY:2. Mercedes-Benz AWGC
DESCRIPTION:2. Mercedes-Benz AWGC\,  Anmeldung nur unter awgc.de Einzel &#8
 211; Stableford &#8211; 9-Loch\nhttps://www.golfclub-ravensberger-land.de/t
 ermine/2-mercedes-benz-awgc-anmeldung-nur-unter-awgc-de/
URL:https://www.golfclub-ravensberger-land.de/termine/2-mercedes-benz-awgc-anmeldung-nur-unter-awgc-de/
END:VEVENT
END:VCALENDAR