BEGIN:VCALENDAR
VERSION:2.0
PRODID:-//eventon.com NONSGML v1.0//EN
CALSCALE:GREGORIAN
METHOD:PUBLISH
BEGIN:VEVENT
UID:69e68a3f8dab4
DTSTAMP:20260420T201911Z
DTSTART:20240608T073000Z
DTEND:20240608T103000Z
LOCATION:Golfclub Ravensberger Land e.V. Golfclub Ravensberger Land e.V.
SUMMARY:3. Early Bird by PlanetGolf 9L
DESCRIPTION:3. Early Bird by PlanetGolf 9L Einzel &#8211; ZählspielMax &#8
 211; 9-Loch\nhttps://www.golfclub-ravensberger-land.de/termine/3-early-bird
 -by-planetgolf-9l/
URL:https://www.golfclub-ravensberger-land.de/termine/3-early-bird-by-planetgolf-9l/
END:VEVENT
END:VCALENDAR