BEGIN:VCALENDAR
VERSION:2.0
PRODID:-//eventon.com NONSGML v1.0//EN
CALSCALE:GREGORIAN
METHOD:PUBLISH
BEGIN:VEVENT
UID:69ec12581c6b1
DTSTAMP:20260425T010112Z
DTSTART:20240621T163000Z
DTEND:20240621T193000Z
LOCATION:Golfclub Ravensberger Land e.V. Golfclub Ravensberger Land e.V.
SUMMARY:4. Mercedes-Benz AWGC\,  Anmeldung nur unter awgc.de
DESCRIPTION:4. Mercedes-Benz AWGC\,  Anmeldung nur unter awgc.de Einzel &#8
 211; Stableford &#8211; 9-Loch\nhttps://www.golfclub-ravensberger-land.de/t
 ermine/4-mercedes-benz-awgc-anmeldung-nur-unter-awgc-de/
URL:https://www.golfclub-ravensberger-land.de/termine/4-mercedes-benz-awgc-anmeldung-nur-unter-awgc-de/
END:VEVENT
END:VCALENDAR