BEGIN:VCALENDAR
VERSION:2.0
PRODID:-//eventon.com NONSGML v1.0//EN
CALSCALE:GREGORIAN
METHOD:PUBLISH
BEGIN:VEVENT
UID:69e6aeb3d2b8f
DTSTAMP:20260420T225443Z
DTSTART:20240628T163000Z
DTEND:20240628T193000Z
LOCATION:Golfclub Ravensberger Land e.V. Golfclub Ravensberger Land e.V.
SUMMARY:3. ECCO DAY 9L
DESCRIPTION:3. ECCO DAY 9L Einzel &#8211; Stableford &#8211; 9-Loch\nhttps:
 //www.golfclub-ravensberger-land.de/termine/3-ecco-day-9l/
URL:https://www.golfclub-ravensberger-land.de/termine/3-ecco-day-9l/
END:VEVENT
END:VCALENDAR