BEGIN:VCALENDAR
VERSION:2.0
PRODID:-//eventon.com NONSGML v1.0//EN
CALSCALE:GREGORIAN
METHOD:PUBLISH
BEGIN:VEVENT
UID:69e689ed3ce79
DTSTAMP:20260420T201749Z
DTSTART:20240906T160000Z
DTEND:20240906T173000Z
LOCATION:Golfclub Ravensberger Land e.V. Golfclub Ravensberger Land e.V.
SUMMARY:8. Mercedes-Benz AWGC
DESCRIPTION:8. Mercedes-Benz AWGC\,  Anmeldung nur unter awgc.de Einzel &#8
 211; Stableford &#8211; 9-Loch\nhttps://www.golfclub-ravensberger-land.de/t
 ermine/8-mercedes-benz-awgc-anmeldung-nur-unter-awgc-de/
URL:https://www.golfclub-ravensberger-land.de/termine/8-mercedes-benz-awgc-anmeldung-nur-unter-awgc-de/
END:VEVENT
END:VCALENDAR