BEGIN:VCALENDAR
VERSION:2.0
PRODID:-//eventon.com NONSGML v1.0//EN
CALSCALE:GREGORIAN
METHOD:PUBLISH
BEGIN:VEVENT
UID:69e6d31d6585f
DTSTAMP:20260421T013005Z
DTSTART:20241011T150000Z
DTEND:20241011T180000Z
LOCATION:Golfclub Ravensberger Land e.V. Golfclub Ravensberger Land e.V.
SUMMARY:10. Mercedes-Benz AWGC\,  Anmeldung nur unter awgc.de
DESCRIPTION:10. Mercedes-Benz AWGC\,  Anmeldung nur unter awgc.de Einzel &#
 8211; Stableford &#8211; 9-Loch\nhttps://www.golfclub-ravensberger-land.de/
 termine/10-mercedes-benz-awgc-anmeldung-nur-unter-awgc-de/
URL:https://www.golfclub-ravensberger-land.de/termine/10-mercedes-benz-awgc-anmeldung-nur-unter-awgc-de/
END:VEVENT
END:VCALENDAR