BEGIN:VCALENDAR
VERSION:2.0
PRODID:-//eventon.com NONSGML v1.0//EN
CALSCALE:GREGORIAN
METHOD:PUBLISH
BEGIN:VEVENT
UID:69e68505c1908
DTSTAMP:20260420T195653Z
DTSTART:20240211T110000Z
DTEND:20240211T170000Z
LOCATION:Golfclub Ravensberger Land e.V. Golfclub Ravensberger Land e.V.
SUMMARY:Neujahrsempfang
DESCRIPTION:Neujahrsempfang Scramble &#8211; Zählspiel &#8211; 18-Loch\nht
 tps://www.golfclub-ravensberger-land.de/termine/neujahrsempfang-3/
URL:https://www.golfclub-ravensberger-land.de/termine/neujahrsempfang-3/
END:VEVENT
END:VCALENDAR