BEGIN:VCALENDAR
VERSION:2.0
PRODID:-//eventon.com NONSGML v1.0//EN
CALSCALE:GREGORIAN
METHOD:PUBLISH
BEGIN:VEVENT
UID:69e68a64b9dc2
DTSTAMP:20260420T201948Z
DTSTART:20240509T110000Z
DTEND:20240509T170000Z
LOCATION:Golfclub Ravensberger Land e.V. Golfclub Ravensberger Land e.V.
SUMMARY:Benefizturnier Kinderkrebshilfe 23
DESCRIPTION:Benefizturnier Kinderkrebshilfe 23 Einzel &#8211; Stableford &#
 8211; 18-Loch\nhttps://www.golfclub-ravensberger-land.de/termine/benefiztur
 nier-kinderkrebshilfe-23/
URL:https://www.golfclub-ravensberger-land.de/termine/benefizturnier-kinderkrebshilfe-23/
END:VEVENT
END:VCALENDAR