BEGIN:VCALENDAR
VERSION:2.0
PRODID:-//eventon.com NONSGML v1.0//EN
CALSCALE:GREGORIAN
METHOD:PUBLISH
BEGIN:VEVENT
UID:69e688a5d1ecb
DTSTAMP:20260420T201221Z
DTSTART:20240601T080000Z
DTEND:20240601T215900Z
LOCATION:
SUMMARY:Heimspiel AK50 Damen
DESCRIPTION:Heimspiel AK50 Damen\nhttps://www.golfclub-ravensberger-land.de
 /termine/heimspiel-ak50-damen/
URL:https://www.golfclub-ravensberger-land.de/termine/heimspiel-ak50-damen/
END:VEVENT
END:VCALENDAR