BEGIN:VCALENDAR
VERSION:2.0
PRODID:-//eventon.com NONSGML v1.0//EN
CALSCALE:GREGORIAN
METHOD:PUBLISH
BEGIN:VEVENT
UID:69e6afccef25a
DTSTAMP:20260420T225924Z
DTSTART:20240703T130000Z
DTEND:20240703T190000Z
LOCATION:Golfclub Ravensberger Land e.V. Golfclub Ravensberger Land e.V.
SUMMARY:Men's Day - Kurzplatzmeisterschaft
DESCRIPTION:Men's Day - Kurzplatzmeisterschaft\nhttps://www.golfclub-ravens
 berger-land.de/termine/mens-day-auswaerts-senne-golfclub/
URL:https://www.golfclub-ravensberger-land.de/termine/mens-day-auswaerts-senne-golfclub/
END:VEVENT
END:VCALENDAR