BEGIN:VCALENDAR
VERSION:2.0
PRODID:-//eventon.com NONSGML v1.0//EN
CALSCALE:GREGORIAN
METHOD:PUBLISH
BEGIN:VEVENT
UID:69e68700a1113
DTSTAMP:20260420T200520Z
DTSTART:20240911T132000Z
DTEND:20240911T192000Z
LOCATION:Golfclub Ravensberger Land e.V. Golfclub Ravensberger Land e.V.
SUMMARY:Men's Day
DESCRIPTION:Men&#8217;s Day Einzel &#8211; ZählspielMax &#8211; 18 &#038; 
 9-Loch\nhttps://www.golfclub-ravensberger-land.de/termine/mens-day-24/
URL:https://www.golfclub-ravensberger-land.de/termine/mens-day-24/
END:VEVENT
END:VCALENDAR