BEGIN:VCALENDAR
VERSION:2.0
PRODID:-//eventon.com NONSGML v1.0//EN
CALSCALE:GREGORIAN
METHOD:PUBLISH
BEGIN:VEVENT
UID:69e6d2ba19390
DTSTAMP:20260421T012826Z
DTSTART:20241009T102000Z
DTEND:20241009T215900Z
LOCATION:Golfclub Ravensberger Land e.V. Golfclub Ravensberger Land e.V.
SUMMARY:Men's Day
DESCRIPTION:Men&#8217;s Day Einzel &#8211; ZählspielMax &#8211; 18 &amp; 9
 -Loch\nhttps://www.golfclub-ravensberger-land.de/termine/mens-day-27/
URL:https://www.golfclub-ravensberger-land.de/termine/mens-day-27/
END:VEVENT
END:VCALENDAR