BEGIN:VCALENDAR
VERSION:2.0
PRODID:-//eventon.com NONSGML v1.0//EN
CALSCALE:GREGORIAN
METHOD:PUBLISH
BEGIN:VEVENT
UID:69e68affd7e4e
DTSTAMP:20260420T202223Z
DTSTART:20241026T120000Z
DTEND:20241026T180000Z
LOCATION:Golfclub Ravensberger Land e.V. Golfclub Ravensberger Land e.V.
SUMMARY:Men's Day - Abschlußturnier - Chaxas-Scramble
DESCRIPTION:Men&#8217;s Day &#8211; Abschlußturnier &#8211; Chaxas-Scrambl
 e Scramble &#8211; ZählspielMax &#8211; 18-Loch\nhttps://www.golfclub-rave
 nsberger-land.de/termine/mens-day-abschlussturnier-chaxas-scramble/
URL:https://www.golfclub-ravensberger-land.de/termine/mens-day-abschlussturnier-chaxas-scramble/
END:VEVENT
END:VCALENDAR