BEGIN:VCALENDAR
VERSION:2.0
PRODID:-//eventon.com NONSGML v1.0//EN
CALSCALE:GREGORIAN
METHOD:PUBLISH
BEGIN:VEVENT
UID:69e685e09fdcf
DTSTAMP:20260420T200032Z
DTSTART:20240101T010000Z
DTEND:20240102T010000Z
LOCATION:
SUMMARY:Neujahr
DESCRIPTION:Alle Termine auf www.schulferien.org\nhttps://www.golfclub-rave
 nsberger-land.de/termine/neujahr/
URL:https://www.golfclub-ravensberger-land.de/termine/neujahr/
END:VEVENT
END:VCALENDAR