BEGIN:VCALENDAR
VERSION:2.0
PRODID:-//eventon.com NONSGML v1.0//EN
CALSCALE:GREGORIAN
METHOD:PUBLISH
BEGIN:VEVENT
UID:69e6947221c02
DTSTAMP:20260420T210242Z
DTSTART:20240329T010000Z
DTEND:20240330T010000Z
LOCATION:
SUMMARY:Karfreitag
DESCRIPTION:Alle Termine auf www.schulferien.org\nhttps://www.golfclub-rave
 nsberger-land.de/termine/karfreitag-2/
URL:https://www.golfclub-ravensberger-land.de/termine/karfreitag-2/
END:VEVENT
END:VCALENDAR