BEGIN:VCALENDAR
VERSION:2.0
PRODID:-//eventon.com NONSGML v1.0//EN
CALSCALE:GREGORIAN
METHOD:PUBLISH
BEGIN:VEVENT
UID:69e6af7f3ce76
DTSTAMP:20260420T225807Z
DTSTART:20240401T020000Z
DTEND:20240402T020000Z
LOCATION:
SUMMARY:Ostermontag
DESCRIPTION:Alle Termine auf www.schulferien.org\nhttps://www.golfclub-rave
 nsberger-land.de/termine/ostermontag/
URL:https://www.golfclub-ravensberger-land.de/termine/ostermontag/
END:VEVENT
END:VCALENDAR