BEGIN:VCALENDAR
VERSION:2.0
PRODID:-//eventon.com NONSGML v1.0//EN
CALSCALE:GREGORIAN
METHOD:PUBLISH
BEGIN:VEVENT
UID:69e685b6f2c68
DTSTAMP:20260420T195950Z
DTSTART:20240501T020000Z
DTEND:20240502T020000Z
LOCATION:
SUMMARY:Tag der Arbeit
DESCRIPTION:Alle Termine auf www.schulferien.org\nhttps://www.golfclub-rave
 nsberger-land.de/termine/tag-der-arbeit-2/
URL:https://www.golfclub-ravensberger-land.de/termine/tag-der-arbeit-2/
END:VEVENT
END:VCALENDAR