BEGIN:VCALENDAR
VERSION:2.0
PRODID:-//eventon.com NONSGML v1.0//EN
CALSCALE:GREGORIAN
METHOD:PUBLISH
BEGIN:VEVENT
UID:69e68697d5702
DTSTAMP:20260420T200335Z
DTSTART:20240520T020000Z
DTEND:20240521T020000Z
LOCATION:
SUMMARY:Pfingstmontag
DESCRIPTION:Alle Termine auf www.schulferien.org\nhttps://www.golfclub-rave
 nsberger-land.de/termine/pfingstmontag/
URL:https://www.golfclub-ravensberger-land.de/termine/pfingstmontag/
END:VEVENT
END:VCALENDAR