BEGIN:VCALENDAR
VERSION:2.0
PRODID:-//eventon.com NONSGML v1.0//EN
CALSCALE:GREGORIAN
METHOD:PUBLISH
BEGIN:VEVENT
UID:69e6afcd0258d
DTSTAMP:20260420T225925Z
DTSTART:20241003T020000Z
DTEND:20241004T020000Z
LOCATION:
SUMMARY:Tag der Deutschen Einheit
DESCRIPTION:Alle Termine auf www.schulferien.org\nhttps://www.golfclub-rave
 nsberger-land.de/termine/tag-der-deutschen-einheit-2/
URL:https://www.golfclub-ravensberger-land.de/termine/tag-der-deutschen-einheit-2/
END:VEVENT
END:VCALENDAR