BEGIN:VCALENDAR
VERSION:2.0
PRODID:-//eventon.com NONSGML v1.0//EN
CALSCALE:GREGORIAN
METHOD:PUBLISH
BEGIN:VEVENT
UID:69e685b6f2c57
DTSTAMP:20260420T195950Z
DTSTART:20241101T010000Z
DTEND:20241102T010000Z
LOCATION:
SUMMARY:Allerheiligen
DESCRIPTION:Alle Termine auf www.schulferien.org\nhttps://www.golfclub-rave
 nsberger-land.de/termine/allerheiligen-2/
URL:https://www.golfclub-ravensberger-land.de/termine/allerheiligen-2/
END:VEVENT
END:VCALENDAR