BEGIN:VCALENDAR
VERSION:2.0
PRODID:-//eventon.com NONSGML v1.0//EN
CALSCALE:GREGORIAN
METHOD:PUBLISH
BEGIN:VEVENT
UID:69e6d11ed28ac
DTSTAMP:20260421T012134Z
DTSTART:20240919T080000Z
DTEND:20240919T215900Z
LOCATION:
SUMMARY:Heimspiel AK65 Herren
DESCRIPTION:Heimspiel AK65 Herren\nhttps://www.golfclub-ravensberger-land.d
 e/termine/heimspiel-ak65-herren-2/
URL:https://www.golfclub-ravensberger-land.de/termine/heimspiel-ak65-herren-2/
END:VEVENT
END:VCALENDAR