BEGIN:VCALENDAR
VERSION:2.0
PRODID:-//eventon.com NONSGML v1.0//EN
CALSCALE:GREGORIAN
METHOD:PUBLISH
BEGIN:VEVENT
UID:69e6af2b58cdf
DTSTAMP:20260420T225643Z
DTSTART:20240825
DTEND:20240826
LOCATION:
SUMMARY:9. Golf-Benefizturnier der Lions Clubs Enger-Spenge
DESCRIPTION:Korrektur des Flyers: Startgeld 30 € plus eine beliebige Spen
 de nach eigenem Ermessen Spenden fließen der DLRG zu\nhttps://www.golfclub
 -ravensberger-land.de/termine/9-golf-benefizturnier-der-lions-clubs-enger-s
 prenge/
URL:https://www.golfclub-ravensberger-land.de/termine/9-golf-benefizturnier-der-lions-clubs-enger-sprenge/
END:VEVENT
END:VCALENDAR