BEGIN:VCALENDAR
VERSION:2.0
PRODID:-//eventon.com NONSGML v1.0//EN
CALSCALE:GREGORIAN
METHOD:PUBLISH
BEGIN:VEVENT
UID:69e88dc8ea514
DTSTAMP:20260422T085848Z
DTSTART:20241107T100000Z
DTEND:20241107T110000Z
LOCATION:
SUMMARY:Wintersenioren
DESCRIPTION:Liebe Golfsenioren\,  Die Sommer-Saison 2024 haben wir gut übe
 rstanden\,  auch wenn wir wettertechnische Schwierigkeiten überstehen muss
 ten. Wir treffen uns am Donnerstag zum Start unserer Winterrunde\,  wie jed
 es Jahr ohne vorherige Anmeldung. Die Flights finden sich selbstständig. D
 er erste Flight geht um 11:30 Uhr auf die Runde. Wie in der Winterrunde[..]
 \nhttps://www.golfclub-ravensberger-land.de/termine/wintersenioren/
URL:https://www.golfclub-ravensberger-land.de/termine/wintersenioren/
END:VEVENT
END:VCALENDAR