BEGIN:VCALENDAR
VERSION:2.0
PRODID:-//eventon.com NONSGML v1.0//EN
CALSCALE:GREGORIAN
METHOD:PUBLISH
BEGIN:VEVENT
UID:69e6d2bb2aac8
DTSTAMP:20260421T012827Z
DTSTART:20241107T093000Z
DTEND:20241107T100000Z
LOCATION:
SUMMARY:Winterseniorinnen
DESCRIPTION:Winterseniorinnen\nhttps://www.golfclub-ravensberger-land.de/te
 rmine/winterseniorinnen/
URL:https://www.golfclub-ravensberger-land.de/termine/winterseniorinnen/
END:VEVENT
END:VCALENDAR