BEGIN:VCALENDAR
VERSION:2.0
PRODID:-//eventon.com NONSGML v1.0//EN
CALSCALE:GREGORIAN
METHOD:PUBLISH
BEGIN:VEVENT
UID:69e6853467321
DTSTAMP:20260420T195740Z
DTSTART:20241207T100000Z
DTEND:20241207T225900Z
LOCATION:
SUMMARY:Nikolaus (Sc)ramble 25
DESCRIPTION:Ein Scramble Kanonenstart 11 Uhr Startgeld 15 € Rundensuppe m
 it saisonalen Getränken Zum Abschluss wärmen im Clubhaus Siegerehrung Ein
 e Gemeinschaftsproduktion der Spielgruppen des Ravensberger Landes\nhttps:/
 /www.golfclub-ravensberger-land.de/termine/nikolaus-scramble-25/
URL:https://www.golfclub-ravensberger-land.de/termine/nikolaus-scramble-25/
END:VEVENT
END:VCALENDAR