BEGIN:VCALENDAR
VERSION:2.0
PRODID:-//eventon.com NONSGML v1.0//EN
CALSCALE:GREGORIAN
METHOD:PUBLISH
BEGIN:VEVENT
UID:69e6a364cd822
DTSTAMP:20260420T220628Z
DTSTART:20250408T110000Z
DTEND:20250408T170000Z
LOCATION:Golfclub Ravensberger Land e.V. Golfclub Ravensberger Land e.V.
SUMMARY:Ladiesday Eröffnungsturnier
DESCRIPTION:Ladiesday Eröffnungsturnier Chapman-Vierer &#8211; ZählspielM
 ax &#8211; 18-Loch\nhttps://www.golfclub-ravensberger-land.de/termine/ladie
 sday-eroeffnungsturnier-4/
URL:https://www.golfclub-ravensberger-land.de/termine/ladiesday-eroeffnungsturnier-4/
END:VEVENT
END:VCALENDAR