BEGIN:VCALENDAR
VERSION:2.0
PRODID:-//eventon.com NONSGML v1.0//EN
CALSCALE:GREGORIAN
METHOD:PUBLISH
BEGIN:VEVENT
UID:69e6d07d19d54
DTSTAMP:20260421T011853Z
DTSTART:20250506T110000Z
DTEND:20250506T170000Z
LOCATION:Golfclub Ravensberger Land e.V. Golfclub Ravensberger Land e.V.
SUMMARY:Ladiesday 18/9L - Strawbery Tour
DESCRIPTION:Ladiesday 18/9L &#8211; Strawbery Tour Einzel &#8211; Zählspie
 lMax &#8211; 18 und 9-Loch\nhttps://www.golfclub-ravensberger-land.de/termi
 ne/ladiesday-18-9l-strawbery-tour/
URL:https://www.golfclub-ravensberger-land.de/termine/ladiesday-18-9l-strawbery-tour/
END:VEVENT
END:VCALENDAR