BEGIN:VCALENDAR
VERSION:2.0
PRODID:-//eventon.com NONSGML v1.0//EN
CALSCALE:GREGORIAN
METHOD:PUBLISH
BEGIN:VEVENT
UID:69e685346762c
DTSTAMP:20260420T195740Z
DTSTART:20250603T110000Z
DTEND:20250603T170000Z
LOCATION:Golfclub Ravensberger Land e.V. Golfclub Ravensberger Land e.V.
SUMMARY:Ladiesday 18/9L - Lünse
DESCRIPTION:Ladiesday 18/9L &#8211; Lünse Einzel &#8211; ZählspielMax &#8
 211; 18 und 9-Loch\nhttps://www.golfclub-ravensberger-land.de/termine/ladie
 sday-18-9l-luense/
URL:https://www.golfclub-ravensberger-land.de/termine/ladiesday-18-9l-luense/
END:VEVENT
END:VCALENDAR