BEGIN:VCALENDAR
VERSION:2.0
PRODID:-//eventon.com NONSGML v1.0//EN
CALSCALE:GREGORIAN
METHOD:PUBLISH
BEGIN:VEVENT
UID:69e698bcc504e
DTSTAMP:20260420T212100Z
DTSTART:20250610T110000Z
DTEND:20250610T170000Z
LOCATION:Golfclub Ravensberger Land e.V. Golfclub Ravensberger Land e.V.
SUMMARY:Ladiesday 18/9L  - Strawberry Tour
DESCRIPTION:Ladiesday 18/9L &#8211; Strawberry Tour Einzel &#8211; Zählspi
 elMax &#8211; 18 und 9-Loch\nhttps://www.golfclub-ravensberger-land.de/term
 ine/ladiesday-18-9l-strawberry-tour-2/
URL:https://www.golfclub-ravensberger-land.de/termine/ladiesday-18-9l-strawberry-tour-2/
END:VEVENT
END:VCALENDAR