BEGIN:VCALENDAR
VERSION:2.0
PRODID:-//eventon.com NONSGML v1.0//EN
CALSCALE:GREGORIAN
METHOD:PUBLISH
BEGIN:VEVENT
UID:69e68c5047ecd
DTSTAMP:20260420T202800Z
DTSTART:20250617T110000Z
DTEND:20250617T170000Z
LOCATION:Golfclub Ravensberger Land e.V. Golfclub Ravensberger Land e.V.
SUMMARY:Ladiesday - Widukind zu Gast
DESCRIPTION:Ladiesday &#8211; Widukind zu Gast Einzel &#8211; ZählspielMax
  &#8211; 18 und 9-Loch\nhttps://www.golfclub-ravensberger-land.de/termine/l
 adiesday-widukind-zu-gast-2/
URL:https://www.golfclub-ravensberger-land.de/termine/ladiesday-widukind-zu-gast-2/
END:VEVENT
END:VCALENDAR