BEGIN:VCALENDAR
VERSION:2.0
PRODID:-//eventon.com NONSGML v1.0//EN
CALSCALE:GREGORIAN
METHOD:PUBLISH
BEGIN:VEVENT
UID:69e6e8e1ed979
DTSTAMP:20260421T030257Z
DTSTART:20250624T110000Z
DTEND:20250624T170000Z
LOCATION:Golfclub Ravensberger Land e.V. Golfclub Ravensberger Land e.V.
SUMMARY:Ladiesday 18/9L  - PlanetGolf
DESCRIPTION:Ladiesday 18/9L &#8211; PlanetGolf Einzel &#8211; ZählspielMax
  &#8211; 18 und 9-Loch\nhttps://www.golfclub-ravensberger-land.de/termine/l
 adiesday-18-9l-planetgolf/
URL:https://www.golfclub-ravensberger-land.de/termine/ladiesday-18-9l-planetgolf/
END:VEVENT
END:VCALENDAR