BEGIN:VCALENDAR
VERSION:2.0
PRODID:-//eventon.com NONSGML v1.0//EN
CALSCALE:GREGORIAN
METHOD:PUBLISH
BEGIN:VEVENT
UID:69e68b5b788c0
DTSTAMP:20260420T202355Z
DTSTART:20250701T130000Z
DTEND:20250701T190000Z
LOCATION:Golfclub Ravensberger Land e.V. Golfclub Ravensberger Land e.V.
SUMMARY:Ladiesday 18/9L - Blumenturnier
DESCRIPTION:Ladiesday 18/9L &#8211; Blumenturnier Einzel &#8211; Zählspiel
 Max &#8211; 18 und 9-Loch\nhttps://www.golfclub-ravensberger-land.de/termin
 e/ladiesday-18-9l-blumenturnier/
URL:https://www.golfclub-ravensberger-land.de/termine/ladiesday-18-9l-blumenturnier/
END:VEVENT
END:VCALENDAR