BEGIN:VCALENDAR
VERSION:2.0
PRODID:-//eventon.com NONSGML v1.0//EN
CALSCALE:GREGORIAN
METHOD:PUBLISH
BEGIN:VEVENT
UID:69e6a6d8492b4
DTSTAMP:20260420T222112Z
DTSTART:20250708T130000Z
DTEND:20250708T190000Z
LOCATION:Golfclub Ravensberger Land e.V. Golfclub Ravensberger Land e.V.
SUMMARY:Ladiesday 18/9L  - Blumenturnier
DESCRIPTION:Ladiesday 18/9L &#8211; Blumenturnier Einzel &#8211; Zählspiel
 Max &#8211; 18 und 9-Loch\nhttps://www.golfclub-ravensberger-land.de/termin
 e/ladiesday-18-9l-ueberraschungsturnier/
URL:https://www.golfclub-ravensberger-land.de/termine/ladiesday-18-9l-ueberraschungsturnier/
END:VEVENT
END:VCALENDAR