BEGIN:VCALENDAR
VERSION:2.0
PRODID:-//eventon.com NONSGML v1.0//EN
CALSCALE:GREGORIAN
METHOD:PUBLISH
BEGIN:VEVENT
UID:69e6afb8125ef
DTSTAMP:20260420T225904Z
DTSTART:20250729T130000Z
DTEND:20250729T190000Z
LOCATION:Golfclub Ravensberger Land e.V. Golfclub Ravensberger Land e.V.
SUMMARY:Ladiesday 18L - Pink Ribbon
DESCRIPTION:Ladiesday 18L &#8211; Pink Ribbon Einzel &#8211; ZählspielMax 
 &#8211; 18 und 9-Loch\nhttps://www.golfclub-ravensberger-land.de/termine/la
 diesday-18l-pink-ribbon/
URL:https://www.golfclub-ravensberger-land.de/termine/ladiesday-18l-pink-ribbon/
END:VEVENT
END:VCALENDAR