BEGIN:VCALENDAR
VERSION:2.0
PRODID:-//eventon.com NONSGML v1.0//EN
CALSCALE:GREGORIAN
METHOD:PUBLISH
BEGIN:VEVENT
UID:69e6ae9a1da2e
DTSTAMP:20260420T225418Z
DTSTART:20250729T150000Z
DTEND:20250729T180000Z
LOCATION:Golfclub Ravensberger Land e.V. Golfclub Ravensberger Land e.V.
SUMMARY:Ladiesday 9L - Pink Ribbon
DESCRIPTION:Ladiesday 9L &#8211; Pink Ribbon Einzel &#8211; ZählspielMax &
 #8211; 9-Loch\nhttps://www.golfclub-ravensberger-land.de/termine/ladiesday-
 9l-pink-ribbon/
URL:https://www.golfclub-ravensberger-land.de/termine/ladiesday-9l-pink-ribbon/
END:VEVENT
END:VCALENDAR