BEGIN:VCALENDAR
VERSION:2.0
PRODID:-//eventon.com NONSGML v1.0//EN
CALSCALE:GREGORIAN
METHOD:PUBLISH
BEGIN:VEVENT
UID:69e6ae9412f44
DTSTAMP:20260420T225412Z
DTSTART:20250805T130000Z
DTEND:20250805T190000Z
LOCATION:Golfclub Ravensberger Land e.V. Golfclub Ravensberger Land e.V.
SUMMARY:Ladiesday 18L by Timms Werther
DESCRIPTION:Ladiesday 18L by Timms Werther Einzel &#8211; ZählspielMax &#8
 211; 18 und 9-Loch\nhttps://www.golfclub-ravensberger-land.de/termine/ladie
 sday-18l-by-timms-werther/
URL:https://www.golfclub-ravensberger-land.de/termine/ladiesday-18l-by-timms-werther/
END:VEVENT
END:VCALENDAR