BEGIN:VCALENDAR
VERSION:2.0
PRODID:-//eventon.com NONSGML v1.0//EN
CALSCALE:GREGORIAN
METHOD:PUBLISH
BEGIN:VEVENT
UID:69e6c9698017b
DTSTAMP:20260421T004841Z
DTSTART:20250805T150000Z
DTEND:20250805T180000Z
LOCATION:Golfclub Ravensberger Land e.V. Golfclub Ravensberger Land e.V.
SUMMARY:Ladiesday 9L by Timms Werther
DESCRIPTION:Ladiesday 9L by Timms Werther Einzel &#8211; ZählspielMax &#82
 11; 9-Loch\nhttps://www.golfclub-ravensberger-land.de/termine/ladiesday-9l-
 by-timms-werther/
URL:https://www.golfclub-ravensberger-land.de/termine/ladiesday-9l-by-timms-werther/
END:VEVENT
END:VCALENDAR