BEGIN:VCALENDAR
VERSION:2.0
PRODID:-//eventon.com NONSGML v1.0//EN
CALSCALE:GREGORIAN
METHOD:PUBLISH
BEGIN:VEVENT
UID:69e68506b790c
DTSTAMP:20260420T195654Z
DTSTART:20250812T130000Z
DTEND:20250812T190000Z
LOCATION:Golfclub Ravensberger Land e.V. Golfclub Ravensberger Land e.V.
SUMMARY:Ladiesday 18/9L by Caroline Oetker Stift
DESCRIPTION:Ladiesday 18/9L unterstützt von Caroline Oetker Stift Einzel &
 #8211; ZählspielMax &#8211; 18 und 9-Loch\nhttps://www.golfclub-ravensberg
 er-land.de/termine/ladiesday-18-9l-7/
URL:https://www.golfclub-ravensberger-land.de/termine/ladiesday-18-9l-7/
END:VEVENT
END:VCALENDAR