BEGIN:VCALENDAR
VERSION:2.0
PRODID:-//eventon.com NONSGML v1.0//EN
CALSCALE:GREGORIAN
METHOD:PUBLISH
BEGIN:VEVENT
UID:69e6d11ebaa61
DTSTAMP:20260421T012134Z
DTSTART:20250826T130000Z
DTEND:20250826T190000Z
LOCATION:Golfclub Ravensberger Land e.V. Golfclub Ravensberger Land e.V.
SUMMARY:Ladiesday 18L by Autohaus Steinböhmer
DESCRIPTION:Ladiesday 18L by Autohaus Steinböhmer Einzel &#8211; Zählspie
 lMax &#8211; 18 und 9-Loch\nhttps://www.golfclub-ravensberger-land.de/termi
 ne/ladiesday-18l-by-autohaus-steinboehmer/
URL:https://www.golfclub-ravensberger-land.de/termine/ladiesday-18l-by-autohaus-steinboehmer/
END:VEVENT
END:VCALENDAR