BEGIN:VCALENDAR
VERSION:2.0
PRODID:-//eventon.com NONSGML v1.0//EN
CALSCALE:GREGORIAN
METHOD:PUBLISH
BEGIN:VEVENT
UID:69e68a49c4c2e
DTSTAMP:20260420T201921Z
DTSTART:20250826T150000Z
DTEND:20250826T180000Z
LOCATION:Golfclub Ravensberger Land e.V. Golfclub Ravensberger Land e.V.
SUMMARY:Ladiesday 9L by Autohaus Steinböhmer
DESCRIPTION:Ladiesday 9L by Autohaus Steinböhmer Einzel &#8211; Zählspiel
 Max &#8211; 9-Loch\nhttps://www.golfclub-ravensberger-land.de/termine/ladie
 sday-9l-by-autohaus-steinboehmer/
URL:https://www.golfclub-ravensberger-land.de/termine/ladiesday-9l-by-autohaus-steinboehmer/
END:VEVENT
END:VCALENDAR