BEGIN:VCALENDAR
VERSION:2.0
PRODID:-//eventon.com NONSGML v1.0//EN
CALSCALE:GREGORIAN
METHOD:PUBLISH
BEGIN:VEVENT
UID:69e688e9acc2b
DTSTAMP:20260420T201329Z
DTSTART:20250916T130000Z
DTEND:20250916T190000Z
LOCATION:Golfclub Ravensberger Land e.V. Golfclub Ravensberger Land e.V.
SUMMARY:Ladiesday 18/9L
DESCRIPTION:Ladiesday 18/9L Einzel &#8211; ZählspielMax &#8211; 18 und 9-L
 och\nhttps://www.golfclub-ravensberger-land.de/termine/ladiesday-18-9l-11/
URL:https://www.golfclub-ravensberger-land.de/termine/ladiesday-18-9l-11/
END:VEVENT
END:VCALENDAR